BEGIN:VCALENDAR
VERSION:2.0
PRODID:-//Greater Northwest Area of The United Methodist Church - ECPv6.15.20//NONSGML v1.0//EN
CALSCALE:GREGORIAN
METHOD:PUBLISH
X-ORIGINAL-URL:https://greaternw.org
X-WR-CALDESC:Events for Greater Northwest Area of The United Methodist Church
REFRESH-INTERVAL;VALUE=DURATION:PT1H
X-Robots-Tag:noindex
X-PUBLISHED-TTL:PT1H
BEGIN:VTIMEZONE
TZID:America/Los_Angeles
BEGIN:DAYLIGHT
TZOFFSETFROM:-0800
TZOFFSETTO:-0700
TZNAME:PDT
DTSTART:20200308T100000
END:DAYLIGHT
BEGIN:STANDARD
TZOFFSETFROM:-0700
TZOFFSETTO:-0800
TZNAME:PST
DTSTART:20201101T090000
END:STANDARD
BEGIN:DAYLIGHT
TZOFFSETFROM:-0800
TZOFFSETTO:-0700
TZNAME:PDT
DTSTART:20210314T100000
END:DAYLIGHT
BEGIN:STANDARD
TZOFFSETFROM:-0700
TZOFFSETTO:-0800
TZNAME:PST
DTSTART:20211107T090000
END:STANDARD
BEGIN:DAYLIGHT
TZOFFSETFROM:-0800
TZOFFSETTO:-0700
TZNAME:PDT
DTSTART:20220313T100000
END:DAYLIGHT
BEGIN:STANDARD
TZOFFSETFROM:-0700
TZOFFSETTO:-0800
TZNAME:PST
DTSTART:20221106T090000
END:STANDARD
END:VTIMEZONE
BEGIN:VEVENT
DTSTART;TZID=America/Los_Angeles:20210105T180000
DTEND;TZID=America/Los_Angeles:20210105T200000
DTSTAMP:20260419T053216
CREATED:20201231T184904Z
LAST-MODIFIED:20201231T184904Z
UID:10000007-1609869600-1609876800@greaternw.org
SUMMARY:WJIECC Conversation on dismantling racism
DESCRIPTION:The Inter-Ethnic Coordinating Committee is committed to support our Western Jurisdiction Leadership Team and participate boldly in the call to Stand Up Against Racism. We are a family; a community and we can do our work together of eradicating racism in the church and in our nation. \nWe are very delighted to inform you that we have two conversation speakers to speak on the call to dismantle racism. They are the Rev. Michael Yoshii and Pastor Ann Jacob (Click here for more information about the speakers). \nWe\, who are older\, are inviting our young people to join in the conversation. We recognize that we have our generation differences\, but we could be one in the work of dismantling racism and decolonizing the church. \nOur conversation is on Tuesday\, January 5\, 2021 at 6:00-8:00 P.M. (PST) \nPlease REGISTER now.
URL:https://greaternw.org/event/wjiecc-conversation-on-dismantling-racism/
LOCATION:https://cnumc.zoom.us/meeting/register/tJ0sd-6oqjMiGN3VLtKSz7NM_h1IAB-uUSZR
CATEGORIES:Virtual Events
ATTACH;FMTTYPE=image/jpeg:https://greaternw.org/wp-content/uploads/2020/12/AA7CA723-6844-4FF8-8107-2A8BB0494AB5.jpeg
END:VEVENT
END:VCALENDAR