BEGIN:VCALENDAR
VERSION:2.0
PRODID:-//Greater Northwest Area of The United Methodist Church - ECPv6.15.20//NONSGML v1.0//EN
CALSCALE:GREGORIAN
METHOD:PUBLISH
X-WR-CALNAME:Greater Northwest Area of The United Methodist Church
X-ORIGINAL-URL:https://greaternw.org
X-WR-CALDESC:Events for Greater Northwest Area of The United Methodist Church
REFRESH-INTERVAL;VALUE=DURATION:PT1H
X-Robots-Tag:noindex
X-PUBLISHED-TTL:PT1H
BEGIN:VTIMEZONE
TZID:America/Los_Angeles
BEGIN:DAYLIGHT
TZOFFSETFROM:-0800
TZOFFSETTO:-0700
TZNAME:PDT
DTSTART:20230312T100000
END:DAYLIGHT
BEGIN:STANDARD
TZOFFSETFROM:-0700
TZOFFSETTO:-0800
TZNAME:PST
DTSTART:20231105T090000
END:STANDARD
BEGIN:DAYLIGHT
TZOFFSETFROM:-0800
TZOFFSETTO:-0700
TZNAME:PDT
DTSTART:20240310T100000
END:DAYLIGHT
BEGIN:STANDARD
TZOFFSETFROM:-0700
TZOFFSETTO:-0800
TZNAME:PST
DTSTART:20241103T090000
END:STANDARD
BEGIN:DAYLIGHT
TZOFFSETFROM:-0800
TZOFFSETTO:-0700
TZNAME:PDT
DTSTART:20250309T100000
END:DAYLIGHT
BEGIN:STANDARD
TZOFFSETFROM:-0700
TZOFFSETTO:-0800
TZNAME:PST
DTSTART:20251102T090000
END:STANDARD
END:VTIMEZONE
BEGIN:VEVENT
DTSTART;TZID=America/Los_Angeles:20240503T080000
DTEND;TZID=America/Los_Angeles:20240503T170000
DTSTAMP:20260424T111951
CREATED:20221115T182948Z
LAST-MODIFIED:20221115T182948Z
UID:10000077-1714723200-1714755600@greaternw.org
SUMMARY:General Conference 2024
DESCRIPTION:The Commission on General Conference has announced that General Conference will be April 23-May 3\, 2024\, at Charlotte Convention Center in Charlotte\, North Carolina.
URL:https://greaternw.org/event/general-conference-2024/
LOCATION:Charlotte Convention Center\, 501 S College St\, Charlotte\, VA\, 28202\, United States
CATEGORIES:General Church
ATTACH;FMTTYPE=image/jpeg:https://greaternw.org/wp-content/uploads/2022/11/Charlotte-skyline-670.jpg
END:VEVENT
BEGIN:VEVENT
DTSTART;TZID=America/Los_Angeles:20240530T090000
DTEND;TZID=America/Los_Angeles:20240530T170000
DTSTAMP:20260424T111951
CREATED:20231003T193043Z
LAST-MODIFIED:20231003T193043Z
UID:10000095-1717059600-1717088400@greaternw.org
SUMMARY:Institutional Equity Cohort
DESCRIPTION:The date for one of six in-person Equity Cohort gatherings for individuals within the Oregon-Idaho and Pacific Northwest Annual Conferences leadership structures.
URL:https://greaternw.org/event/institutional-equity-cohort-4/
LOCATION:Grotto Retreat Center\, 8840 NE Skidmore St\, Portland\, OR\, 97220\, United States
CATEGORIES:IV Team,Training
ATTACH;FMTTYPE=image/png:https://greaternw.org/wp-content/uploads/2023/10/Equity-Cohorts.png
ORGANIZER;CN="Kristina Gonzalez":MAILTO:kgonzalez@greaternw.org
END:VEVENT
BEGIN:VEVENT
DTSTART;TZID=America/Los_Angeles:20240531T090000
DTEND;TZID=America/Los_Angeles:20240531T170000
DTSTAMP:20260424T111951
CREATED:20231003T193820Z
LAST-MODIFIED:20231003T193820Z
UID:10000101-1717146000-1717174800@greaternw.org
SUMMARY:Congregational Equity Cohort
DESCRIPTION:The date for one of six in-person Equity Cohort gatherings for Congregational Leaders within the Oregon-Idaho and Pacific Northwest Annual Conferences.
URL:https://greaternw.org/event/congregational-equity-cohort/2024-05-31/
LOCATION:Grotto Retreat Center\, 8840 NE Skidmore St\, Portland\, OR\, 97220\, United States
CATEGORIES:IV Team,Training
ATTACH;FMTTYPE=image/png:https://greaternw.org/wp-content/uploads/2023/10/Equity-Cohorts.png
END:VEVENT
END:VCALENDAR